Workbook

Sheet Lisa 3
H1: Lisa 3
H2: üürilepingule nr KPJ-4/2026-70
A4: Üür ja kõrvalteenuste tasu
C6: Üürnik | D6: Prokuratuur
C7: Üüripinna aadress | D7: Sadama tn 21, Haapsalu linn, Haapsalu linn
D9: Üüripind (hooned) | E9: 90.921309 | F9: m2
D10: Territoorium | E10: 6079 | F10: m2
B12: Üüriteenused ja üür | E12: EUR/m2 | F12: summa kuus | G12: Muutmise alus | H12: Märkused
C13: Kapitalikomponent (bilansiline) | E13: =F13/$E$9 -> 0.025255231 | F13: ='Annuiteetgraafik BIL'!F17 -> 2.2962387 | G13: Ei indekseerita | H13: **Toodud esialgsed prognoossummad. Enne valduse üleandmist täpsustatakse summad hanke tulemuste ja investeeringu lõpliku maksumuse alusel.
C14: Kapitalikomponent (parendustööd) | E14: =F14/$E$9 -> 25.527448 | F14: ='Annuiteetgraafik PT'!F19 -> 2320.989
C15: Kapitalikomponent (tavasisustus) | E15: =F15/$E$9 -> 2.8773717 | F15: ='Annuiteetgraafik TS'!F15 -> 261.61441
C16: Kapitalikomponent (erisisustus) | E16: =F16/$E$9 -> 0.79899147 | F16: ='Annuiteetgraafik ES'!F15 -> 72.645351
B17: 400 | C17: Remonttööd | E17: =F17/$E$9 -> 2.01 | F17: 182.75183
B18: 100 | C18: Kinnisvara haldamine (haldusteenus) | E18: 0.54132 | F18: =E18*$E$9 -> 49.217523 | G18: Indekseeritakse* esimest korda selle aasta 1. jaanuaril, mis saabub pärast üüripinna üleandmisele järgnevat kalendriaastat, 31.dets THI, max 3% aastas
B19: 200 | C19: Tehnohooldus | E19: 1.9481925 | F19: =E19*$E$9 -> 177.13221
B20: 500 | C20: Omanikukohustused | E20: 0.05 | F20: =E20*$E$9 -> 4.5460655
C21: ÜÜR KOKKU | E21: =SUM(E13:E20) -> 33.778579 | F21: =SUM(F13:F20) -> 3071.1926
B23: Kõrvalteenused ja kõrvalteenuste tasud | E23: EUR/m2 | F23: summa kuus | G23: Muutmise alus | H23: Märkused
B24: 300 | C24: Heakord (310-360) | E24: 3.6 | F24: =E24*$E$9 -> 327.31671 | G24: Teenuse hinna muutus | H24: ***Toodud esialgsed prognoossummad. Summad täpsustatakse hanke tulemuste ja täpsustatud prognoosi alusel. Kõrvalteenuste eest tasumine tegelike kulude alusel.
B25: 600 | C25: Tarbimisteenused
C26: 610 | D26: Elektrienergia | E26: 0.74 | F26: =E26*$E$9 -> 67.281769 | G26: Teenuse hinna, tarbimise muutus
C27: 620 | D27: Küte (soojusenergia) | E27: 0.6 | F27: =E27*$E$9 -> 54.552785
C28: 630 | D28: Vesi ja kanalisatsioon | E28: 0.07 | F28: =E28*$E$9 -> 6.3644916
C29: 650 | D29: Kaugjahutus | E29: 0 | F29: =E29*$E$9 -> 0
B30: 700 | C30: Tugiteenused
C31: 710 | D31: Valveteenus | E31: 0.04 | F31: =E31*$E$9 -> 3.6368524 | G31: Teenuse hinna muutus
C32: 720, 740 | D32: Muud tugiteenused | E32: 0 | F32: =E32*$E$9 -> 0
C33: KÕRVALTEENUSTE TASUD KOKKU | E33: =SUM(E24:E32) -> 5.05 | F33: =SUM(F24:F32) -> 459.15261
B35: Üür ja kõrvalteenuste tasud kokku ilma käibemaksuta (kuus) | E35: =E33+E21 -> 38.828579 | F35: =F33+F21 -> 3530.3453
B36: Käibemaks | D36: 0.24 | E36: =E35*$D$36 -> 9.318859 | F36: =F35*$D$36 -> 847.28286
B37: ÜÜR JA KÕRVALTEENUSTE TASUD KOOS KÄIBEMAKSUGA (kuus) | E37: =E36+E35 -> 48.147438 | F37: =F36+F35 -> 4377.6281
B38: ÜÜR JA KÕRVALTEENUSTE TASUD KÄIBEMAKSUTA (perioodil) | E38: 12 | F38: =F35*E38 -> 42364.143
B39: ÜÜR JA KÕRVALTEENUSTE TASUD KOOS KÄIBEMAKSUGA (perioodil) | E39: 12 | F39: =F37*E39 -> 52531.537
B41: *indekseeritakse vastavalt eritingimuste punktile 6.6 ning tüüptingimuste punktidele 3.14 ja 3.16: Uus üüri summa kuus saadakse nii, et olemasolev üüri summa kuus korrutatakse läbi 31.12 seisuga lõppeva aastase perioodi kohta avaldatud THI protsentuaalse muutusega või kui 31.12 THI aastane muutus on suurem kui 3% (nt 3,2%), siis korrutatakse läbi indekseerimise piirmääraga 3%. Indekseerimise arvutuse näide uue üüri summa leidmiseks: olemasolev üür kuus 150 eurot, 31.12 THI aastane muutus 3,2% (piirmäär 3%). Olemasolev üüri summa 150 eurot * 3% = uus üüri summa kuus 154,5 eurot.
B44: Üürileandja: | E44: Üürnik:
B46: (allkirjastatud digitaalselt) | E46: (allkirjastatud digitaalselt)

Sheet Annuiteetgraafik BIL
K3: Üürnik | L3: Üüripind
B4: Kapitalikomponendi annuiteetmaksegraafik - | F4: Sadama tn 21, Haapsalu linn, Haapsalu linn | K4: üürnik 1 | L4: 90.921309 | M4: =L4/$L$9 -> 0.065604523
K5: üürnik 2 | M5: =L5/$L$9 -> 0
B6: Maksete algus | E6: 47484 | K6: üürnik 3 | M6: =L6/$L$9 -> 0
B7: Maksete arv | E7: 240 | F7: kuud | K7: üürnik 4 | M7: =L7/$L$9 -> 0
B8: Kinnistu jääkmaksumus | D8: =E6-1 -> 47483 | E8: 7778.05 | F8: EUR (km-ta) | K8: üürnik 5 | M8: =L8/$L$9 -> 0
B9: Kinnistu jääkmaksumus | D9: =EOMONTH(D8,E7) -> 54788 | E9: 7778.05 | F9: EUR (km-ta) | K9: Kokku: | L9: 1385.9
B10: Üürniku osakaal | E10: =M4 -> 0.065604523
B11: Kapitali algväärtus | E11: =SUM(E8)*SUM($E$10) -> 510.27526 | F11: EUR (km-ta)
B12: Kapitali lõppväärtus | E12: =SUM(E9)*SUM($E$10) -> 510.27526 | F12: EUR (km-ta)
B13: Kapitali tulumäär 2026 II pa | E13: 0.054
A16: Kuupäev | B16: Jrk nr | C16: Algjääk | D16: Intress | E16: Põhiosa | F16: Kap.komponent | G16: Lõppjääk
A17: =IF(B17="","",E6) -> 47484 | B17: =IF(E7>0,1,"") -> 1 | C17: =IF(B17="","",E11) -> 510.27526 | D17: =IF(B17="","",IPMT($E$13/12,B17,$E$7,-$E$11,$E$12,0)) -> 2.2962387 | E17: =IF(B17="","",PPMT($E$13/12,B17,$E$7,-$E$11,$E$12,0)) -> 0 | F17: =IF(B17="","",SUM(D17:E17)) -> 2.2962387 | G17: =IF(B17="","",SUM(C17)-SUM(E17)) -> 510.27526
A18: =IF(B18="","",EDATE(A17,1)) -> 47515 | B18: =IF(B17="","",IF(SUM(B17)+1<=$E$7,SUM(B17)+1,"")) -> 2 | C18: =IF(B18="","",G17) -> 510.27526 | D18: =IF(B18="","",IPMT($E$13/12,B18,$E$7,-$E$11,$E$12,0)) -> 2.2962387 | E18: =IF(B18="","",PPMT($E$13/12,B18,$E$7,-$E$11,$E$12,0)) -> 0 | F18: =IF(B18="","",SUM(D18:E18)) -> 2.2962387 | G18: =IF(B18="","",SUM(C18)-SUM(E18)) -> 510.27526
A19: =IF(B19="","",EDATE(A18,1)) -> 47543 | B19: =IF(B18="","",IF(SUM(B18)+1<=$E$7,SUM(B18)+1,"")) -> 3 | C19: =IF(B19="","",G18) -> 510.27526 | D19: =IF(B19="","",IPMT($E$13/12,B19,$E$7,-$E$11,$E$12,0)) -> 2.2962387 | E19: =IF(B19="","",PPMT($E$13/12,B19,$E$7,-$E$11,$E$12,0)) -> 0 | F19: =IF(B19="","",SUM(D19:E19)) -> 2.2962387 | G19: =IF(B19="","",SUM(C19)-SUM(E19)) -> 510.27526
A20: =IF(B20="","",EDATE(A19,1)) -> 47574 | B20: =IF(B19="","",IF(SUM(B19)+1<=$E$7,SUM(B19)+1,"")) -> 4 | C20: =IF(B20="","",G19) -> 510.27526 | D20: =IF(B20="","",IPMT($E$13/12,B20,$E$7,-$E$11,$E$12,0)) -> 2.2962387 | E20: =IF(B20="","",PPMT($E$13/12,B20,$E$7,-$E$11,$E$12,0)) -> 0 | F20: =IF(B20="","",SUM(D20:E20)) -> 2.2962387 | G20: =IF(B20="","",SUM(C20)-SUM(E20)) -> 510.27526
A21: =IF(B21="","",EDATE(A20,1)) -> 47604 | B21: =IF(B20="","",IF(SUM(B20)+1<=$E$7,SUM(B20)+1,"")) -> 5 | C21: =IF(B21="","",G20) -> 510.27526 | D21: =IF(B21="","",IPMT($E$13/12,B21,$E$7,-$E$11,$E$12,0)) -> 2.2962387 | E21: =IF(B21="","",PPMT($E$13/12,B21,$E$7,-$E$11,$E$12,0)) -> 0 | F21: =IF(B21="","",SUM(D21:E21)) -> 2.2962387 | G21: =IF(B21="","",SUM(C21)-SUM(E21)) -> 510.27526
A22: =IF(B22="","",EDATE(A21,1)) -> 47635 | B22: =IF(B21="","",IF(SUM(B21)+1<=$E$7,SUM(B21)+1,"")) -> 6 | C22: =IF(B22="","",G21) -> 510.27526 | D22: =IF(B22="","",IPMT($E$13/12,B22,$E$7,-$E$11,$E$12,0)) -> 2.2962387 | E22: =IF(B22="","",PPMT($E$13/12,B22,$E$7,-$E$11,$E$12,0)) -> 0 | F22: =IF(B22="","",SUM(D22:E22)) -> 2.2962387 | G22: =IF(B22="","",SUM(C22)-SUM(E22)) -> 510.27526
A23: =IF(B23="","",EDATE(A22,1)) -> 47665 | B23: =IF(B22="","",IF(SUM(B22)+1<=$E$7,SUM(B22)+1,"")) -> 7 | C23: =IF(B23="","",G22) -> 510.27526 | D23: =IF(B23="","",IPMT($E$13/12,B23,$E$7,-$E$11,$E$12,0)) -> 2.2962387 | E23: =IF(B23="","",PPMT($E$13/12,B23,$E$7,-$E$11,$E$12,0)) -> 0 | F23: =IF(B23="","",SUM(D23:E23)) -> 2.2962387 | G23: =IF(B23="","",SUM(C23)-SUM(E23)) -> 510.27526
A24: =IF(B24="","",EDATE(A23,1)) -> 47696 | B24: =IF(B23="","",IF(SUM(B23)+1<=$E$7,SUM(B23)+1,"")) -> 8 | C24: =IF(B24="","",G23) -> 510.27526 | D24: =IF(B24="","",IPMT($E$13/12,B24,$E$7,-$E$11,$E$12,0)) -> 2.2962387 | E24: =IF(B24="","",PPMT($E$13/12,B24,$E$7,-$E$11,$E$12,0)) -> 0 | F24: =IF(B24="","",SUM(D24:E24)) -> 2.2962387 | G24: =IF(B24="","",SUM(C24)-SUM(E24)) -> 510.27526
A25: =IF(B25="","",EDATE(A24,1)) -> 47727 | B25: =IF(B24="","",IF(SUM(B24)+1<=$E$7,SUM(B24)+1,"")) -> 9 | C25: =IF(B25="","",G24) -> 510.27526 | D25: =IF(B25="","",IPMT($E$13/12,B25,$E$7,-$E$11,$E$12,0)) -> 2.2962387 | E25: =IF(B25="","",PPMT($E$13/12,B25,$E$7,-$E$11,$E$12,0)) -> 0 | F25: =IF(B25="","",SUM(D25:E25)) -> 2.2962387 | G25: =IF(B25="","",SUM(C25)-SUM(E25)) -> 510.27526
A26: =IF(B26="","",EDATE(A25,1)) -> 47757 | B26: =IF(B25="","",IF(SUM(B25)+1<=$E$7,SUM(B25)+1,"")) -> 10 | C26: =IF(B26="","",G25) -> 510.27526 | D26: =IF(B26="","",IPMT($E$13/12,B26,$E$7,-$E$11,$E$12,0)) -> 2.2962387 | E26: =IF(B26="","",PPMT($E$13/12,B26,$E$7,-$E$11,$E$12,0)) -> 0 | F26: =IF(B26="","",SUM(D26:E26)) -> 2.2962387 | G26: =IF(B26="","",SUM(C26)-SUM(E26)) -> 510.27526
A27: =IF(B27="","",EDATE(A26,1)) -> 47788 | B27: =IF(B26="","",IF(SUM(B26)+1<=$E$7,SUM(B26)+1,"")) -> 11 | C27: =IF(B27="","",G26) -> 510.27526 | D27: =IF(B27="","",IPMT($E$13/12,B27,$E$7,-$E$11,$E$12,0)) -> 2.2962387 | E27: =IF(B27="","",PPMT($E$13/12,B27,$E$7,-$E$11,$E$12,0)) -> 0 | F27: =IF(B27="","",SUM(D27:E27)) -> 2.2962387 | G27: =IF(B27="","",SUM(C27)-SUM(E27)) -> 510.27526
A28: =IF(B28="","",EDATE(A27,1)) -> 47818 | B28: =IF(B27="","",IF(SUM(B27)+1<=$E$7,SUM(B27)+1,"")) -> 12 | C28: =IF(B28="","",G27) -> 510.27526 | D28: =IF(B28="","",IPMT($E$13/12,B28,$E$7,-$E$11,$E$12,0)) -> 2.2962387 | E28: =IF(B28="","",PPMT($E$13/12,B28,$E$7,-$E$11,$E$12,0)) -> 0 | F28: =IF(B28="","",SUM(D28:E28)) -> 2.2962387 | G28: =IF(B28="","",SUM(C28)-SUM(E28)) -> 510.27526
A29: =IF(B29="","",EDATE(A28,1)) -> 47849 | B29: =IF(B28="","",IF(SUM(B28)+1<=$E$7,SUM(B28)+1,"")) -> 13 | C29: =IF(B29="","",G28) -> 510.27526 | D29: =IF(B29="","",IPMT($E$13/12,B29,$E$7,-$E$11,$E$12,0)) -> 2.2962387 | E29: =IF(B29="","",PPMT($E$13/12,B29,$E$7,-$E$11,$E$12,0)) -> 0 | F29: =IF(B29="","",SUM(D29:E29)) -> 2.2962387 | G29: =IF(B29="","",SUM(C29)-SUM(E29)) -> 510.27526
... A500: =IF(B500="","",EDATE(A499,1)) | B500: =IF(B499="","",IF(SUM(B499)+1<=$E$7,SUM(B499)+1,"")) | C500: =IF(B500="","",G499) | D500: =IF(B500="","",IPMT($E$13/12,B500,$E$7,-$E$11,$E$12,0)) | E500: =IF(B500="","",PPMT($E$13/12,B500,$E$7,-$E$11,$E$12,0)) | F500: =IF(B500="","",SUM(D500:E500)) | G500: =IF(B500="","",SUM(C500)-SUM(E500))

Sheet Annuiteetgraafik PT
K3: Üürnik | L3: Üüripind
B4: Kapitalikomponendi annuiteetmaksegraafik - | F4: Sadama tn 21, Haapsalu linn, Haapsalu linn | K4: üürnik 1 | L4: ='Lisa 3'!E9 -> 90.921309 | M4: =L4/$L$9 -> 0.065604523
K5: üürnik 2 | M5: =L5/$L$9 -> 0
B6: Maksete algus | E6: 47484 | K6: üürnik 3 | M6: =L6/$L$9 -> 0
B7: Maksete arv | E7: 240 | F7: kuud | K7: üürnik 4 | M7: =L7/$L$9 -> 0
B8: Kapitali algväärtus | D8: =$E$6-1 -> 47483 | E8: 6058656.4 | F8: EUR (km-ta) | K8: üürnik 5 | M8: =L8/$L$9 -> 0
B9: Kapitali lõppväärtus | D9: =EOMONTH(D8,$E$7) -> 54788 | E9: 2564800 | F9: EUR (km-ta) | K9: Kokku: | L9: 1385.9
B10: Toetused (CO2, Moderniseerimisfond) | E10: - | F10: EUR (km-ta)
B11: Sissevool | E11: - | F11: EUR (km-ta)
B12: Üürniku osakaal | E12: =M4 -> 0.065604523
B13: Kapitali algväärtus | D13: =$E$6-1 -> 47483 | E13: =(SUM(E8)-SUM($E$10:$E$11))*$E$12 -> 397475.26 | F13: EUR (km-ta)
B14: Kapitali lõppväärtus | D14: =EOMONTH(D13,$E$7) -> 54788 | E14: =(SUM(E9)*$E$12) -> 168262.48 | F14: EUR (km-ta)
B15: Kapitali tulumäär 2026 II pa | E15: 0.054
A18: Kuupäev | B18: Jrk nr | C18: Algjääk | D18: Intress | E18: Põhiosa | F18: Kap.komponent | G18: Lõppjääk
A19: =IF(B19="","",E6) -> 47484 | B19: =IF(E7>0,1,"") -> 1 | C19: =IF(B19="","",E13) -> 397475.26 | D19: =IF(B19="","",IPMT($E$15/12,B19,$E$7,-$E$13,$E$14,0)) -> 1788.6387 | E19: =IF(B19="","",PPMT($E$15/12,B19,$E$7,-$E$13,$E$14,0)) -> 532.35033 | F19: =IF(B19="","",SUM(D19:E19)) -> 2320.989 | G19: =IF(B19="","",SUM(C19)-SUM(E19)) -> 396942.91
A20: =IF(B20="","",EDATE(A19,1)) -> 47515 | B20: =IF(B19="","",IF(SUM(B19)+1<=$E$7,SUM(B19)+1,"")) -> 2 | C20: =IF(B20="","",G19) -> 396942.91 | D20: =IF(B20="","",IPMT($E$15/12,B20,$E$7,-$E$13,$E$14,0)) -> 1786.2431 | E20: =IF(B20="","",PPMT($E$15/12,B20,$E$7,-$E$13,$E$14,0)) -> 534.74591 | F20: =IF(B20="","",SUM(D20:E20)) -> 2320.989 | G20: =IF(B20="","",SUM(C20)-SUM(E20)) -> 396408.17
A21: =IF(B21="","",EDATE(A20,1)) -> 47543 | B21: =IF(B20="","",IF(SUM(B20)+1<=$E$7,SUM(B20)+1,"")) -> 3 | C21: =IF(B21="","",G20) -> 396408.17 | D21: =IF(B21="","",IPMT($E$15/12,B21,$E$7,-$E$13,$E$14,0)) -> 1783.8368 | E21: =IF(B21="","",PPMT($E$15/12,B21,$E$7,-$E$13,$E$14,0)) -> 537.15226 | F21: =IF(B21="","",SUM(D21:E21)) -> 2320.989 | G21: =IF(B21="","",SUM(C21)-SUM(E21)) -> 395871.01
A22: =IF(B22="","",EDATE(A21,1)) -> 47574 | B22: =IF(B21="","",IF(SUM(B21)+1<=$E$7,SUM(B21)+1,"")) -> 4 | C22: =IF(B22="","",G21) -> 395871.01 | D22: =IF(B22="","",IPMT($E$15/12,B22,$E$7,-$E$13,$E$14,0)) -> 1781.4196 | E22: =IF(B22="","",PPMT($E$15/12,B22,$E$7,-$E$13,$E$14,0)) -> 539.56945 | F22: =IF(B22="","",SUM(D22:E22)) -> 2320.989 | G22: =IF(B22="","",SUM(C22)-SUM(E22)) -> 395331.44
A23: =IF(B23="","",EDATE(A22,1)) -> 47604 | B23: =IF(B22="","",IF(SUM(B22)+1<=$E$7,SUM(B22)+1,"")) -> 5 | C23: =IF(B23="","",G22) -> 395331.44 | D23: =IF(B23="","",IPMT($E$15/12,B23,$E$7,-$E$13,$E$14,0)) -> 1778.9915 | E23: =IF(B23="","",PPMT($E$15/12,B23,$E$7,-$E$13,$E$14,0)) -> 541.99751 | F23: =IF(B23="","",SUM(D23:E23)) -> 2320.989 | G23: =IF(B23="","",SUM(C23)-SUM(E23)) -> 394789.45
A24: =IF(B24="","",EDATE(A23,1)) -> 47635 | B24: =IF(B23="","",IF(SUM(B23)+1<=$E$7,SUM(B23)+1,"")) -> 6 | C24: =IF(B24="","",G23) -> 394789.45 | D24: =IF(B24="","",IPMT($E$15/12,B24,$E$7,-$E$13,$E$14,0)) -> 1776.5525 | E24: =IF(B24="","",PPMT($E$15/12,B24,$E$7,-$E$13,$E$14,0)) -> 544.4365 | F24: =IF(B24="","",SUM(D24:E24)) -> 2320.989 | G24: =IF(B24="","",SUM(C24)-SUM(E24)) -> 394245.01
A25: =IF(B25="","",EDATE(A24,1)) -> 47665 | B25: =IF(B24="","",IF(SUM(B24)+1<=$E$7,SUM(B24)+1,"")) -> 7 | C25: =IF(B25="","",G24) -> 394245.01 | D25: =IF(B25="","",IPMT($E$15/12,B25,$E$7,-$E$13,$E$14,0)) -> 1774.1025 | E25: =IF(B25="","",PPMT($E$15/12,B25,$E$7,-$E$13,$E$14,0)) -> 546.88646 | F25: =IF(B25="","",SUM(D25:E25)) -> 2320.989 | G25: =IF(B25="","",SUM(C25)-SUM(E25)) -> 393698.12
A26: =IF(B26="","",EDATE(A25,1)) -> 47696 | B26: =IF(B25="","",IF(SUM(B25)+1<=$E$7,SUM(B25)+1,"")) -> 8 | C26: =IF(B26="","",G25) -> 393698.12 | D26: =IF(B26="","",IPMT($E$15/12,B26,$E$7,-$E$13,$E$14,0)) -> 1771.6416 | E26: =IF(B26="","",PPMT($E$15/12,B26,$E$7,-$E$13,$E$14,0)) -> 549.34745 | F26: =IF(B26="","",SUM(D26:E26)) -> 2320.989 | G26: =IF(B26="","",SUM(C26)-SUM(E26)) -> 393148.78
A27: =IF(B27="","",EDATE(A26,1)) -> 47727 | B27: =IF(B26="","",IF(SUM(B26)+1<=$E$7,SUM(B26)+1,"")) -> 9 | C27: =IF(B27="","",G26) -> 393148.78 | D27: =IF(B27="","",IPMT($E$15/12,B27,$E$7,-$E$13,$E$14,0)) -> 1769.1695 | E27: =IF(B27="","",PPMT($E$15/12,B27,$E$7,-$E$13,$E$14,0)) -> 551.81952 | F27: =IF(B27="","",SUM(D27:E27)) -> 2320.989 | G27: =IF(B27="","",SUM(C27)-SUM(E27)) -> 392596.96
A28: =IF(B28="","",EDATE(A27,1)) -> 47757 | B28: =IF(B27="","",IF(SUM(B27)+1<=$E$7,SUM(B27)+1,"")) -> 10 | C28: =IF(B28="","",G27) -> 392596.96 | D28: =IF(B28="","",IPMT($E$15/12,B28,$E$7,-$E$13,$E$14,0)) -> 1766.6863 | E28: =IF(B28="","",PPMT($E$15/12,B28,$E$7,-$E$13,$E$14,0)) -> 554.3027 | F28: =IF(B28="","",SUM(D28:E28)) -> 2320.989 | G28: =IF(B28="","",SUM(C28)-SUM(E28)) -> 392042.65
A29: =IF(B29="","",EDATE(A28,1)) -> 47788 | B29: =IF(B28="","",IF(SUM(B28)+1<=$E$7,SUM(B28)+1,"")) -> 11 | C29: =IF(B29="","",G28) -> 392042.65 | D29: =IF(B29="","",IPMT($E$15/12,B29,$E$7,-$E$13,$E$14,0)) -> 1764.1919 | E29: =IF(B29="","",PPMT($E$15/12,B29,$E$7,-$E$13,$E$14,0)) -> 556.79707 | F29: =IF(B29="","",SUM(D29:E29)) -> 2320.989 | G29: =IF(B29="","",SUM(C29)-SUM(E29)) -> 391485.86
A30: =IF(B30="","",EDATE(A29,1)) -> 47818 | B30: =IF(B29="","",IF(SUM(B29)+1<=$E$7,SUM(B29)+1,"")) -> 12 | C30: =IF(B30="","",G29) -> 391485.86 | D30: =IF(B30="","",IPMT($E$15/12,B30,$E$7,-$E$13,$E$14,0)) -> 1761.6864 | E30: =IF(B30="","",PPMT($E$15/12,B30,$E$7,-$E$13,$E$14,0)) -> 559.30265 | F30: =IF(B30="","",SUM(D30:E30)) -> 2320.989 | G30: =IF(B30="","",SUM(C30)-SUM(E30)) -> 390926.56
A31: =IF(B31="","",EDATE(A30,1)) -> 47849 | B31: =IF(B30="","",IF(SUM(B30)+1<=$E$7,SUM(B30)+1,"")) -> 13 | C31: =IF(B31="","",G30) -> 390926.56 | D31: =IF(B31="","",IPMT($E$15/12,B31,$E$7,-$E$13,$E$14,0)) -> 1759.1695 | E31: =IF(B31="","",PPMT($E$15/12,B31,$E$7,-$E$13,$E$14,0)) -> 561.81951 | F31: =IF(B31="","",SUM(D31:E31)) -> 2320.989 | G31: =IF(B31="","",SUM(C31)-SUM(E31)) -> 390364.74
... A504: =IF(B504="","",EDATE(A503,1)) | B504: =IF(B503="","",IF(SUM(B503)+1<=$E$7,SUM(B503)+1,"")) | C504: =IF(B504="","",G503) | D504: =IF(B504="","",IPMT($E$15/12,B504,$E$7,-$E$13,$E$14,0)) | E504: =IF(B504="","",PPMT($E$15/12,B504,$E$7,-$E$13,$E$14,0)) | F504: =IF(B504="","",SUM(D504:E504)) | G504: =IF(B504="","",SUM(C504)-SUM(E504))

Sheet Annuiteetgraafik TS
B4: Kapitalikomponendi annuiteetmaksegraafik - | F4: Sadama tn 21, Haapsalu linn, Haapsalu linn
B6: Maksete algus | E6: 47484
B7: Maksete arv | E7: 180 | F7: kuud
B8: Kapitali algväärtus | D8: =E6-1 -> 47483 | E8: 32226.992 | F8: EUR (km-ta)
B9: Kapitali lõppväärtus | D9: =EOMONTH(D8,E7) -> 52962 | E9: 0 | F9: EUR (km-ta)
B10: Üürniku osakaal | E10: 1
B11: Kapitali tulumäär 2026 II pa | E11: 0.054
A14: Kuupäev | B14: Jrk nr | C14: Algjääk | D14: Intress | E14: Põhiosa | F14: Kap.komponent | G14: Lõppjääk
A15: =IF(B15="","",E6) -> 47484 | B15: =IF(E7>0,1,"") -> 1 | C15: =IF(B15="","",E8) -> 32226.992 | D15: =IF(B15="","",IPMT($E$11/12,B15,$E$7,-$E$8,$E$9,0)) -> 145.02146 | E15: =IF(B15="","",PPMT($E$11/12,B15,$E$7,-$E$8,$E$9,0)) -> 116.59294 | F15: =IF(B15="","",SUM(D15:E15)) -> 261.61441 | G15: =IF(B15="","",SUM(C15)-SUM(E15)) -> 32110.399
A16: =IF(B16="","",EDATE(A15,1)) -> 47515 | B16: =IF(B15="","",IF(SUM(B15)+1<=$E$7,SUM(B15)+1,"")) -> 2 | C16: =IF(B16="","",G15) -> 32110.399 | D16: =IF(B16="","",IPMT($E$11/12,B16,$E$7,-$E$8,$E$9,0)) -> 144.4968 | E16: =IF(B16="","",PPMT($E$11/12,B16,$E$7,-$E$8,$E$9,0)) -> 117.11761 | F16: =IF(B16="","",SUM(D16:E16)) -> 261.61441 | G16: =IF(B16="","",SUM(C16)-SUM(E16)) -> 31993.282
A17: =IF(B17="","",EDATE(A16,1)) -> 47543 | B17: =IF(B16="","",IF(SUM(B16)+1<=$E$7,SUM(B16)+1,"")) -> 3 | C17: =IF(B17="","",G16) -> 31993.282 | D17: =IF(B17="","",IPMT($E$11/12,B17,$E$7,-$E$8,$E$9,0)) -> 143.96977 | E17: =IF(B17="","",PPMT($E$11/12,B17,$E$7,-$E$8,$E$9,0)) -> 117.64464 | F17: =IF(B17="","",SUM(D17:E17)) -> 261.61441 | G17: =IF(B17="","",SUM(C17)-SUM(E17)) -> 31875.637
A18: =IF(B18="","",EDATE(A17,1)) -> 47574 | B18: =IF(B17="","",IF(SUM(B17)+1<=$E$7,SUM(B17)+1,"")) -> 4 | C18: =IF(B18="","",G17) -> 31875.637 | D18: =IF(B18="","",IPMT($E$11/12,B18,$E$7,-$E$8,$E$9,0)) -> 143.44037 | E18: =IF(B18="","",PPMT($E$11/12,B18,$E$7,-$E$8,$E$9,0)) -> 118.17404 | F18: =IF(B18="","",SUM(D18:E18)) -> 261.61441 | G18: =IF(B18="","",SUM(C18)-SUM(E18)) -> 31757.463
A19: =IF(B19="","",EDATE(A18,1)) -> 47604 | B19: =IF(B18="","",IF(SUM(B18)+1<=$E$7,SUM(B18)+1,"")) -> 5 | C19: =IF(B19="","",G18) -> 31757.463 | D19: =IF(B19="","",IPMT($E$11/12,B19,$E$7,-$E$8,$E$9,0)) -> 142.90858 | E19: =IF(B19="","",PPMT($E$11/12,B19,$E$7,-$E$8,$E$9,0)) -> 118.70582 | F19: =IF(B19="","",SUM(D19:E19)) -> 261.61441 | G19: =IF(B19="","",SUM(C19)-SUM(E19)) -> 31638.757
A20: =IF(B20="","",EDATE(A19,1)) -> 47635 | B20: =IF(B19="","",IF(SUM(B19)+1<=$E$7,SUM(B19)+1,"")) -> 6 | C20: =IF(B20="","",G19) -> 31638.757 | D20: =IF(B20="","",IPMT($E$11/12,B20,$E$7,-$E$8,$E$9,0)) -> 142.37441 | E20: =IF(B20="","",PPMT($E$11/12,B20,$E$7,-$E$8,$E$9,0)) -> 119.24 | F20: =IF(B20="","",SUM(D20:E20)) -> 261.61441 | G20: =IF(B20="","",SUM(C20)-SUM(E20)) -> 31519.517
A21: =IF(B21="","",EDATE(A20,1)) -> 47665 | B21: =IF(B20="","",IF(SUM(B20)+1<=$E$7,SUM(B20)+1,"")) -> 7 | C21: =IF(B21="","",G20) -> 31519.517 | D21: =IF(B21="","",IPMT($E$11/12,B21,$E$7,-$E$8,$E$9,0)) -> 141.83783 | E21: =IF(B21="","",PPMT($E$11/12,B21,$E$7,-$E$8,$E$9,0)) -> 119.77658 | F21: =IF(B21="","",SUM(D21:E21)) -> 261.61441 | G21: =IF(B21="","",SUM(C21)-SUM(E21)) -> 31399.74
A22: =IF(B22="","",EDATE(A21,1)) -> 47696 | B22: =IF(B21="","",IF(SUM(B21)+1<=$E$7,SUM(B21)+1,"")) -> 8 | C22: =IF(B22="","",G21) -> 31399.74 | D22: =IF(B22="","",IPMT($E$11/12,B22,$E$7,-$E$8,$E$9,0)) -> 141.29883 | E22: =IF(B22="","",PPMT($E$11/12,B22,$E$7,-$E$8,$E$9,0)) -> 120.31557 | F22: =IF(B22="","",SUM(D22:E22)) -> 261.61441 | G22: =IF(B22="","",SUM(C22)-SUM(E22)) -> 31279.425
A23: =IF(B23="","",EDATE(A22,1)) -> 47727 | B23: =IF(B22="","",IF(SUM(B22)+1<=$E$7,SUM(B22)+1,"")) -> 9 | C23: =IF(B23="","",G22) -> 31279.425 | D23: =IF(B23="","",IPMT($E$11/12,B23,$E$7,-$E$8,$E$9,0)) -> 140.75741 | E23: =IF(B23="","",PPMT($E$11/12,B23,$E$7,-$E$8,$E$9,0)) -> 120.85699 | F23: =IF(B23="","",SUM(D23:E23)) -> 261.61441 | G23: =IF(B23="","",SUM(C23)-SUM(E23)) -> 31158.568
A24: =IF(B24="","",EDATE(A23,1)) -> 47757 | B24: =IF(B23="","",IF(SUM(B23)+1<=$E$7,SUM(B23)+1,"")) -> 10 | C24: =IF(B24="","",G23) -> 31158.568 | D24: =IF(B24="","",IPMT($E$11/12,B24,$E$7,-$E$8,$E$9,0)) -> 140.21356 | E24: =IF(B24="","",PPMT($E$11/12,B24,$E$7,-$E$8,$E$9,0)) -> 121.40085 | F24: =IF(B24="","",SUM(D24:E24)) -> 261.61441 | G24: =IF(B24="","",SUM(C24)-SUM(E24)) -> 31037.167
A25: =IF(B25="","",EDATE(A24,1)) -> 47788 | B25: =IF(B24="","",IF(SUM(B24)+1<=$E$7,SUM(B24)+1,"")) -> 11 | C25: =IF(B25="","",G24) -> 31037.167 | D25: =IF(B25="","",IPMT($E$11/12,B25,$E$7,-$E$8,$E$9,0)) -> 139.66725 | E25: =IF(B25="","",PPMT($E$11/12,B25,$E$7,-$E$8,$E$9,0)) -> 121.94715 | F25: =IF(B25="","",SUM(D25:E25)) -> 261.61441 | G25: =IF(B25="","",SUM(C25)-SUM(E25)) -> 30915.22
A26: =IF(B26="","",EDATE(A25,1)) -> 47818 | B26: =IF(B25="","",IF(SUM(B25)+1<=$E$7,SUM(B25)+1,"")) -> 12 | C26: =IF(B26="","",G25) -> 30915.22 | D26: =IF(B26="","",IPMT($E$11/12,B26,$E$7,-$E$8,$E$9,0)) -> 139.11849 | E26: =IF(B26="","",PPMT($E$11/12,B26,$E$7,-$E$8,$E$9,0)) -> 122.49592 | F26: =IF(B26="","",SUM(D26:E26)) -> 261.61441 | G26: =IF(B26="","",SUM(C26)-SUM(E26)) -> 30792.724
A27: =IF(B27="","",EDATE(A26,1)) -> 47849 | B27: =IF(B26="","",IF(SUM(B26)+1<=$E$7,SUM(B26)+1,"")) -> 13 | C27: =IF(B27="","",G26) -> 30792.724 | D27: =IF(B27="","",IPMT($E$11/12,B27,$E$7,-$E$8,$E$9,0)) -> 138.56726 | E27: =IF(B27="","",PPMT($E$11/12,B27,$E$7,-$E$8,$E$9,0)) -> 123.04715 | F27: =IF(B27="","",SUM(D27:E27)) -> 261.61441 | G27: =IF(B27="","",SUM(C27)-SUM(E27)) -> 30669.677
... A500: =IF(B500="","",EDATE(A499,1)) | B500: =IF(B499="","",IF(SUM(B499)+1<=$E$7,SUM(B499)+1,"")) | C500: =IF(B500="","",G499) | D500: =IF(B500="","",IPMT($E$11/12,B500,$E$7,-$E$8,$E$9,0)) | E500: =IF(B500="","",PPMT($E$11/12,B500,$E$7,-$E$8,$E$9,0)) | F500: =IF(B500="","",SUM(D500:E500)) | G500: =IF(B500="","",SUM(C500)-SUM(E500))

Sheet Annuiteetgraafik ES
B4: Kapitalikomponendi annuiteetmaksegraafik - | F4: Sadama tn 21, Haapsalu linn, Haapsalu linn
B6: Maksete algus | E6: 47484
B7: Maksete arv | E7: 120 | F7: kuud
B8: Kapitali algväärtus | D8: =E6-1 -> 47483 | E8: 6724.4637 | F8: EUR (km-ta)
B9: Kapitali lõppväärtus | D9: =EOMONTH(D8,E7) -> 51135 | E9: 0 | F9: EUR (km-ta)
B10: Üürniku osakaal | E10: 1
B11: Kapitali tulumäär 2026 II pa | E11: 0.054
A14: Kuupäev | B14: Jrk nr | C14: Algjääk | D14: Intress | E14: Põhiosa | F14: Kap.komponent | G14: Lõppjääk
A15: =IF(B15="","",E6) -> 47484 | B15: =IF(E7>0,1,"") -> 1 | C15: =IF(B15="","",E8) -> 6724.4637 | D15: =IF(B15="","",IPMT($E$11/12,B15,$E$7,-$E$8,$E$9,0)) -> 30.260086 | E15: =IF(B15="","",PPMT($E$11/12,B15,$E$7,-$E$8,$E$9,0)) -> 42.385264 | F15: =IF(B15="","",SUM(D15:E15)) -> 72.645351 | G15: =IF(B15="","",SUM(C15)-SUM(E15)) -> 6682.0784
A16: =IF(B16="","",EDATE(A15,1)) -> 47515 | B16: =IF(B15="","",IF(SUM(B15)+1<=$E$7,SUM(B15)+1,"")) -> 2 | C16: =IF(B16="","",G15) -> 6682.0784 | D16: =IF(B16="","",IPMT($E$11/12,B16,$E$7,-$E$8,$E$9,0)) -> 30.069353 | E16: =IF(B16="","",PPMT($E$11/12,B16,$E$7,-$E$8,$E$9,0)) -> 42.575998 | F16: =IF(B16="","",SUM(D16:E16)) -> 72.645351 | G16: =IF(B16="","",SUM(C16)-SUM(E16)) -> 6639.5024
A17: =IF(B17="","",EDATE(A16,1)) -> 47543 | B17: =IF(B16="","",IF(SUM(B16)+1<=$E$7,SUM(B16)+1,"")) -> 3 | C17: =IF(B17="","",G16) -> 6639.5024 | D17: =IF(B17="","",IPMT($E$11/12,B17,$E$7,-$E$8,$E$9,0)) -> 29.877761 | E17: =IF(B17="","",PPMT($E$11/12,B17,$E$7,-$E$8,$E$9,0)) -> 42.76759 | F17: =IF(B17="","",SUM(D17:E17)) -> 72.645351 | G17: =IF(B17="","",SUM(C17)-SUM(E17)) -> 6596.7348
A18: =IF(B18="","",EDATE(A17,1)) -> 47574 | B18: =IF(B17="","",IF(SUM(B17)+1<=$E$7,SUM(B17)+1,"")) -> 4 | C18: =IF(B18="","",G17) -> 6596.7348 | D18: =IF(B18="","",IPMT($E$11/12,B18,$E$7,-$E$8,$E$9,0)) -> 29.685307 | E18: =IF(B18="","",PPMT($E$11/12,B18,$E$7,-$E$8,$E$9,0)) -> 42.960044 | F18: =IF(B18="","",SUM(D18:E18)) -> 72.645351 | G18: =IF(B18="","",SUM(C18)-SUM(E18)) -> 6553.7748
A19: =IF(B19="","",EDATE(A18,1)) -> 47604 | B19: =IF(B18="","",IF(SUM(B18)+1<=$E$7,SUM(B18)+1,"")) -> 5 | C19: =IF(B19="","",G18) -> 6553.7748 | D19: =IF(B19="","",IPMT($E$11/12,B19,$E$7,-$E$8,$E$9,0)) -> 29.491986 | E19: =IF(B19="","",PPMT($E$11/12,B19,$E$7,-$E$8,$E$9,0)) -> 43.153364 | F19: =IF(B19="","",SUM(D19:E19)) -> 72.645351 | G19: =IF(B19="","",SUM(C19)-SUM(E19)) -> 6510.6214
A20: =IF(B20="","",EDATE(A19,1)) -> 47635 | B20: =IF(B19="","",IF(SUM(B19)+1<=$E$7,SUM(B19)+1,"")) -> 6 | C20: =IF(B20="","",G19) -> 6510.6214 | D20: =IF(B20="","",IPMT($E$11/12,B20,$E$7,-$E$8,$E$9,0)) -> 29.297796 | E20: =IF(B20="","",PPMT($E$11/12,B20,$E$7,-$E$8,$E$9,0)) -> 43.347554 | F20: =IF(B20="","",SUM(D20:E20)) -> 72.645351 | G20: =IF(B20="","",SUM(C20)-SUM(E20)) -> 6467.2738
A21: =IF(B21="","",EDATE(A20,1)) -> 47665 | B21: =IF(B20="","",IF(SUM(B20)+1<=$E$7,SUM(B20)+1,"")) -> 7 | C21: =IF(B21="","",G20) -> 6467.2738 | D21: =IF(B21="","",IPMT($E$11/12,B21,$E$7,-$E$8,$E$9,0)) -> 29.102732 | E21: =IF(B21="","",PPMT($E$11/12,B21,$E$7,-$E$8,$E$9,0)) -> 43.542618 | F21: =IF(B21="","",SUM(D21:E21)) -> 72.645351 | G21: =IF(B21="","",SUM(C21)-SUM(E21)) -> 6423.7312
A22: =IF(B22="","",EDATE(A21,1)) -> 47696 | B22: =IF(B21="","",IF(SUM(B21)+1<=$E$7,SUM(B21)+1,"")) -> 8 | C22: =IF(B22="","",G21) -> 6423.7312 | D22: =IF(B22="","",IPMT($E$11/12,B22,$E$7,-$E$8,$E$9,0)) -> 28.906791 | E22: =IF(B22="","",PPMT($E$11/12,B22,$E$7,-$E$8,$E$9,0)) -> 43.73856 | F22: =IF(B22="","",SUM(D22:E22)) -> 72.645351 | G22: =IF(B22="","",SUM(C22)-SUM(E22)) -> 6379.9927
A23: =IF(B23="","",EDATE(A22,1)) -> 47727 | B23: =IF(B22="","",IF(SUM(B22)+1<=$E$7,SUM(B22)+1,"")) -> 9 | C23: =IF(B23="","",G22) -> 6379.9927 | D23: =IF(B23="","",IPMT($E$11/12,B23,$E$7,-$E$8,$E$9,0)) -> 28.709967 | E23: =IF(B23="","",PPMT($E$11/12,B23,$E$7,-$E$8,$E$9,0)) -> 43.935384 | F23: =IF(B23="","",SUM(D23:E23)) -> 72.645351 | G23: =IF(B23="","",SUM(C23)-SUM(E23)) -> 6336.0573
A24: =IF(B24="","",EDATE(A23,1)) -> 47757 | B24: =IF(B23="","",IF(SUM(B23)+1<=$E$7,SUM(B23)+1,"")) -> 10 | C24: =IF(B24="","",G23) -> 6336.0573 | D24: =IF(B24="","",IPMT($E$11/12,B24,$E$7,-$E$8,$E$9,0)) -> 28.512258 | E24: =IF(B24="","",PPMT($E$11/12,B24,$E$7,-$E$8,$E$9,0)) -> 44.133093 | F24: =IF(B24="","",SUM(D24:E24)) -> 72.645351 | G24: =IF(B24="","",SUM(C24)-SUM(E24)) -> 6291.9242
A25: =IF(B25="","",EDATE(A24,1)) -> 47788 | B25: =IF(B24="","",IF(SUM(B24)+1<=$E$7,SUM(B24)+1,"")) -> 11 | C25: =IF(B25="","",G24) -> 6291.9242 | D25: =IF(B25="","",IPMT($E$11/12,B25,$E$7,-$E$8,$E$9,0)) -> 28.313659 | E25: =IF(B25="","",PPMT($E$11/12,B25,$E$7,-$E$8,$E$9,0)) -> 44.331692 | F25: =IF(B25="","",SUM(D25:E25)) -> 72.645351 | G25: =IF(B25="","",SUM(C25)-SUM(E25)) -> 6247.5925
A26: =IF(B26="","",EDATE(A25,1)) -> 47818 | B26: =IF(B25="","",IF(SUM(B25)+1<=$E$7,SUM(B25)+1,"")) -> 12 | C26: =IF(B26="","",G25) -> 6247.5925 | D26: =IF(B26="","",IPMT($E$11/12,B26,$E$7,-$E$8,$E$9,0)) -> 28.114166 | E26: =IF(B26="","",PPMT($E$11/12,B26,$E$7,-$E$8,$E$9,0)) -> 44.531184 | F26: =IF(B26="","",SUM(D26:E26)) -> 72.645351 | G26: =IF(B26="","",SUM(C26)-SUM(E26)) -> 6203.0613
A27: =IF(B27="","",EDATE(A26,1)) -> 47849 | B27: =IF(B26="","",IF(SUM(B26)+1<=$E$7,SUM(B26)+1,"")) -> 13 | C27: =IF(B27="","",G26) -> 6203.0613 | D27: =IF(B27="","",IPMT($E$11/12,B27,$E$7,-$E$8,$E$9,0)) -> 27.913776 | E27: =IF(B27="","",PPMT($E$11/12,B27,$E$7,-$E$8,$E$9,0)) -> 44.731575 | F27: =IF(B27="","",SUM(D27:E27)) -> 72.645351 | G27: =IF(B27="","",SUM(C27)-SUM(E27)) -> 6158.3297
... A500: =IF(B500="","",EDATE(A499,1)) | B500: =IF(B499="","",IF(SUM(B499)+1<=$E$7,SUM(B499)+1,"")) | C500: =IF(B500="","",G499) | D500: =IF(B500="","",IPMT($E$11/12,B500,$E$7,-$E$8,$E$9,0)) | E500: =IF(B500="","",PPMT($E$11/12,B500,$E$7,-$E$8,$E$9,0)) | F500: =IF(B500="","",SUM(D500:E500)) | G500: =IF(B500="","",SUM(C500)-SUM(E500))
